View In:
ArcGIS JavaScript
ArcGIS Online map viewer
ArcGIS Earth
Service Description: Projects/Precip_OR_25yr24hr_ODOT_2008
Name: Projects/Precip_OR_25yr24hr_ODOT_2008
Description:
Single Fused Map Cache: false
Extent:
XMin: -126.0041666667
YMin: 41.0
XMax: -115.9958333734
YMax: 47.999999972
Spatial Reference: 4326
(4326)
LatestVCSWkid(0)
Initial Extent:
XMin: -126.0041666667
YMin: 41.0
XMax: -115.9958333734
YMax: 47.999999972
Spatial Reference: 4326
(4326)
LatestVCSWkid(0)
Full Extent:
XMin: -126.0041666667
YMin: 41.0
XMax: -115.9958333734
YMax: 47.999999972
Spatial Reference: 4326
(4326)
LatestVCSWkid(0)
Pixel Size X: 0.008333333299999999
Pixel Size Y: 0.008333333299999997
Band Count: 1
Pixel Type: F32
RasterFunction Infos: {"rasterFunctionInfos": [{
"name": "None",
"description": "",
"help": ""
}]}
Mensuration Capabilities: Basic
Inspection Capabilities:
Has Histograms: true
Has Colormap: false
Has Multi Dimensions : false
Rendering Rule:
Min Scale: 0
Max Scale: 0
Copyright Text:
Service Data Type: esriImageServiceDataTypeGeneric
Min Values: 1.2799999713897705
Max Values: 13.449999809265137
Mean Values: 3.279621876862924
Standard Deviation Values: 2.0009095034154436
Object ID Field:
Fields:
None
Default Mosaic Method: Center
Allowed Mosaic Methods:
SortField:
SortValue: null
Mosaic Operator: First
Default Compression Quality: 75
Default Resampling Method: Bilinear
Max Record Count: null
Max Image Height: 4100
Max Image Width: 15000
Max Download Image Count: null
Max Mosaic Image Count: null
Allow Raster Function: true
Allow Copy: true
Allow Analysis: true
Allow Compute TiePoints: false
Supports Statistics: false
Supports Advanced Queries: false
Use StandardizedQueries: true
Raster Type Infos:
Name: Raster Dataset
Description: Supports all ArcGIS Raster Datasets
Help:
Has Raster Attribute Table: false
Edit Fields Info: null
Ownership Based AccessControl For Rasters: null
Child Resources:
Info
Histograms
Statistics
Key Properties
Legend
Raster Function Infos
Supported Operations:
Export Image
Identify
Measure
Compute Histograms
Compute Statistics Histograms
Get Samples
Compute Class Statistics
Query Boundary
Compute Pixel Location
Compute Angles
Validate
Project